BEGIN:VCALENDAR
VERSION:2.0
PRODID:-//Library Market//iCal Export//EN
BEGIN:VEVENT
SUMMARY:Medicare Questions? The Livingston County SHIP Team has Answers!
UID:18967
DTSTAMP:20260419T170700Z
DTSTART:20260629T233000Z
DTEND:20260630T010000Z
LOCATION:
DESCRIPTION:
URL:https://www.cromaine.org/event/medicare-questions-livingston-county-sh
 ip-team-has-answers-18967
END:VEVENT
END:VCALENDAR
