BEGIN:VCALENDAR
VERSION:2.0
PRODID:-//Library Market//iCal Export//EN
BEGIN:VEVENT
SUMMARY:Medicare Questions? The Livingston County SHIP Team has Answers!
UID:18968
DTSTAMP:20260419T182500Z
DTSTART:20260727T233000Z
DTEND:20260728T010000Z
LOCATION:
DESCRIPTION:
URL:https://www.cromaine.org/event/medicare-questions-livingston-county-sh
 ip-team-has-answers-18968
END:VEVENT
END:VCALENDAR
