BEGIN:VCALENDAR
VERSION:2.0
PRODID:-//Library Market//iCal Export//EN
BEGIN:VEVENT
SUMMARY:Yoga With Debbie
UID:19106
DTSTAMP:20260419T182500Z
DTSTART:20260728T223000Z
DTEND:20260728T233000Z
LOCATION:Cromaine District Library, 3688 N. Hartland Rd., Hartland, MI 483
 53, United States
ROOM: Community Room
DESCRIPTION:
URL:https://www.cromaine.org/event/yoga-debbie-19106
END:VEVENT
END:VCALENDAR
