BEGIN:VCALENDAR
VERSION:2.0
PRODID:-//Library Market//iCal Export//EN
BEGIN:VEVENT
SUMMARY:Dino Wars!
UID:21578
DTSTAMP:20260420T111600Z
DTSTART:20260817T223000Z
DTEND:20260817T233000Z
LOCATION:Cromaine District Library, 3688 N. Hartland Rd., Hartland, MI 483
 53, United States
ROOM: Community Room
DESCRIPTION:Dive into the thrilling and chaotic “Bone Wars” of the 187
 0s, when rival paleontologists Othniel Marsh and Edward Cope raced to unco
 ver the biggest and best preserved dinosaur fossils across the American We
 st. Their fierce competition led to the discovery of dozens of new species
 , from Triceratops to Stegosaurus, and laid the foundations of modern pale
 ontology, even as their feud became one of  science’s most notorious ri
 valries. Register online or by phone.
URL:https://www.cromaine.org/event/dino-wars-21578
END:VEVENT
END:VCALENDAR
