BEGIN:VCALENDAR
VERSION:2.0
PRODID:-//Library Market//iCal Export//EN
BEGIN:VEVENT
SUMMARY:Finale Party
UID:21884
DTSTAMP:20260419T154400Z
DTSTART:20260801T150000Z
DTEND:20260801T170000Z
LOCATION:2835 Clark Rd, Hartland, MI 48353, United States
ROOM: Settlers Park
DESCRIPTION:Celebrate the end of this year’s Summer Reading Program with
  crafts, activities, and more at Settler’s Park! Registration encouraged
  for event reminders, but not required. 
URL:https://www.cromaine.org/event/finale-party-21884
END:VEVENT
END:VCALENDAR
