BEGIN:VCALENDAR
VERSION:2.0
PRODID:-//Library Market//iCal Export//EN
BEGIN:VEVENT
SUMMARY:Preschool Dino Day
UID:22262
DTSTAMP:20260419T170700Z
DTSTART:20260629T140000Z
DTEND:20260629T150000Z
LOCATION:Cromaine District Library, 3688 N. Hartland Rd., Hartland, MI 483
 53, United States
ROOM: Youth Program Room
DESCRIPTION:Join us for a roaring good time with crafts, games, sensory pl
 ay, and more! Ages 2-5. Register each child attending online or by phone.Â
  
URL:https://www.cromaine.org/event/preschool-dino-day-22262
END:VEVENT
END:VCALENDAR
