BEGIN:VCALENDAR
VERSION:2.0
PRODID:-//Library Market//iCal Export//EN
BEGIN:VEVENT
SUMMARY:August K-4 Book Bags: Pick-up Time!
UID:22266
DTSTAMP:20260419T154400Z
DTSTART:20260821T040000Z
DTEND:20260821T040000Z
LOCATION:
DESCRIPTION:Beginning July 16, sign up for August&#039;s K-4 Bags. Each ba
 g contains one or two library books handpicked just for you, a small craft
 , and other fun surprises.Please use this link to sign up for this monthâ€
 ™s box:Â https://www.cromaine.org/form/k-4-take-out-bagsRegistration is op
 en until spots are filled. A librarian will notify you when your box is re
 ady for pickup.
URL:https://www.cromaine.org/event/august-k-4-book-bags-pick-time-22266
END:VEVENT
END:VCALENDAR
