BEGIN:VCALENDAR
VERSION:2.0
PRODID:-//Library Market//iCal Export//EN
BEGIN:VEVENT
SUMMARY:Elementary Book Club
UID:22268
DTSTAMP:20260419T142600Z
DTSTART:20260630T220000Z
DTEND:20260630T230000Z
LOCATION:Cromaine District Library, 3688 N. Hartland Rd., Hartland, MI 483
 53, United States
ROOM: Youth Program Room
DESCRIPTION:This months&#039; book:  Dinomighty by Doug Paleo
URL:https://www.cromaine.org/event/elementary-book-club-22268
END:VEVENT
END:VCALENDAR
