BEGIN:VCALENDAR
VERSION:2.0
PRODID:-//Library Market//iCal Export//EN
BEGIN:VEVENT
SUMMARY:Elementary Book Club
UID:22269
DTSTAMP:20260419T154400Z
DTSTART:20260728T220000Z
DTEND:20260728T230000Z
LOCATION:Cromaine District Library, 3688 N. Hartland Rd., Hartland, MI 483
 53, United States
ROOM: Youth Program Room
DESCRIPTION:This months&#039; book:  The Binder of Doom (Brute-Cake) by T
 roy Cummings
URL:https://www.cromaine.org/event/elementary-book-club-22269
END:VEVENT
END:VCALENDAR
