BEGIN:VCALENDAR
VERSION:2.0
PRODID:-//Library Market//iCal Export//EN
BEGIN:VEVENT
SUMMARY:Summer Partnership with Encore Youth Theater: Performance of Magic
  Treehouse: The Knight at Dawn
UID:22281
DTSTAMP:20260421T105100Z
DTSTART:20260619T230000Z
DTEND:20260620T000000Z
LOCATION:3619 Avon St, Hartland, MI 48353, United States
ROOM: Hartland Music Hall
DESCRIPTION:Cromaine Library Summer Partnership with Encore Youth TheaterP
 erformance of Magic Tree House: The Knight at Dawn“Dig in” to this su
 mmer reading collaboration with our friends at Encore Youth Theater:Regist
 er for free tickets to these book-inspired summer productions by the Enc
 ore Youth Theater Summer Boot Camp Cast. Performances will be held in the 
 Historic Hartland Music Hall.What is Encore Youth Theater?Encore is Hartla
 nd Players Youth Group. They believe in the magic of live theater, and off
 er afun, friendly space where kids and teens ages 7 to 18 can dive into th
 e world of performing and gain hands-on experience in every aspect of thea
 ter.As a volunteer-based program, they aim to keep access to the arts affo
 rdable and accessible. They also offer opportunities for parents to work a
 longside their children, celebrate the wonder of theater, and create lasti
 ng family memories. More about our friends at the Hartland PlayersFounded
  in 1967, The Hartland Players, Incorporated is operated as a non-profit c
 orporation whosepurpose is to foster and encourage the presentation of, ed
 ucation in, and public appreciation of thedramatic arts, both at the adult
  and youth level.We always have room for one more at The Hartland Players,
  on both our Mainstage and Encore YouthTheater stages! No experience is ne
 cessary – all you need is a good attitude and a willingness tolearn and 
 have fun.Thank you to all our supporters. Whether by participating in a pr
 oduction or simply attending a show,your support allows us to share and de
 velop the love of theater.If you would like to purchase tickets or learn m
 ore about the Encore Youth Theater or the Hartland Players, visit their we
 bsite!
URL:https://www.cromaine.org/event/summer-partnership-encore-youth-theater
 -magic-tree-house-performance-knight-dawn-22281
END:VEVENT
END:VCALENDAR
