BEGIN:VCALENDAR
VERSION:2.0
PRODID:-//Library Market//iCal Export//EN
BEGIN:VEVENT
SUMMARY:Summer Partnership with Encore Youth Theater: Performance of Magic
  Tree House: Dinosaurs Before Dark
UID:22282
DTSTAMP:20260419T155300Z
DTSTART:20260731T220000Z
DTEND:20260731T230000Z
LOCATION:3619 Avon St, Hartland, MI 48353, United States
ROOM: Hartland Music Hall
DESCRIPTION:Cromaine Library Summer Partnership with Encore Youth Theater:
 Performance of Magic Tree House: Dinosaur&#039;s Before Dark“Dig in” t
 o this summer reading collaboration with our friends at Encore Youth Thea
 ter:Register for free tickets to these book-inspired summer productions 
 by the Encore Youth Theater Summer Boot Camp Cast. Performances will be he
 ld in the Historic Hartland Music Hall.What is Encore Youth Theater?Encore
  is Hartland Players Youth Group. They believe in the magic of live theate
 r, and offer afun, friendly space where kids and teens ages 7 to 18 can di
 ve into the world of performing and gain hands-on experience in every aspe
 ct of theater.As a volunteer-based program, they aim to keep access to the
  arts affordable and accessible. They also offer opportunities for parents
  to work alongside their children, celebrate the wonder of theater, and cr
 eate lasting family memories. More about our friends at the Hartland Play
 ersFounded in 1967, The Hartland Players, Incorporated is operated as a no
 n-profit corporation whosepurpose is to foster and encourage the presentat
 ion of, education in, and public appreciation of thedramatic arts, both at
  the adult and youth level.We always have room for one more at The Hartlan
 d Players, on both our Mainstage and Encore YouthTheater stages! No experi
 ence is necessary – all you need is a good attitude and a willingness to
 learn and have fun.Thank you to all our supporters. Whether by participati
 ng in a production or simply attending a show,your support allows us to sh
 are and develop the love of theater.If you would like to purchase tickets 
 or learn more about the Encore Youth Theater or the Hartland Players, visi
 t their website!
URL:https://www.cromaine.org/event/summer-partnership-encore-youth-theater
 -performance-magic-tree-house-dinosaurs-dark-22282
END:VEVENT
END:VCALENDAR
