BEGIN:VCALENDAR
VERSION:2.0
PRODID:-//Library Market//iCal Export//EN
BEGIN:VEVENT
SUMMARY:Tween Book Club
UID:22290
DTSTAMP:20260419T170700Z
DTSTART:20260629T220000Z
DTEND:20260629T230000Z
LOCATION:Cromaine District Library, 3688 N. Hartland Rd., Hartland, MI 483
 53, United States
ROOM: Youth Program Room
DESCRIPTION:This month&#039;s book: Kaya of the Ocean by Gloria L. Huang
URL:https://www.cromaine.org/event/tween-book-club-22290
END:VEVENT
END:VCALENDAR
