BEGIN:VCALENDAR
VERSION:2.0
PRODID:-//Library Market//iCal Export//EN
BEGIN:VEVENT
SUMMARY:Tween Book Club
UID:22291
DTSTAMP:20260419T182500Z
DTSTART:20260727T220000Z
DTEND:20260727T230000Z
LOCATION:Cromaine District Library, 3688 N. Hartland Rd., Hartland, MI 483
 53, United States
ROOM: Youth Program Room
DESCRIPTION:This month&#039;s book: The Last-Last-Day-of-Summer by Lamar G
 iles
URL:https://www.cromaine.org/event/tween-book-club-22291
END:VEVENT
END:VCALENDAR
